BEGIN:VCALENDAR
VERSION:2.0
PRODID:Malcolm Frager
BEGIN:VEVENT
UID:69e617db37f34
DTSTART:19680124T060000Z
SEQUENCE:0
TRANSP:OPAQUE
DTEND:19680124T060000Z
SUMMARY:Malcolm Frager
CLASS:PUBLIC
DTSTAMP:20260420T121107Z
END:VEVENT
END:VCALENDAR