BEGIN:VCALENDAR
VERSION:2.0
PRODID:Misha Dichter
BEGIN:VEVENT
UID:69ecd24fa9e01
DTSTART:19701007T050000Z
SEQUENCE:0
TRANSP:OPAQUE
DTEND:19701007T050000Z
SUMMARY:Misha Dichter
CLASS:PUBLIC
DTSTAMP:20260425T144015Z
END:VEVENT
END:VCALENDAR