BEGIN:VCALENDAR
VERSION:2.0
PRODID:Ferrante and Teacher
BEGIN:VEVENT
UID:69e6cb30c2d86
DTSTART:19660429T050000Z
SEQUENCE:0
TRANSP:OPAQUE
DTEND:19660429T050000Z
SUMMARY:Ferrante and Teacher
CLASS:PUBLIC
DTSTAMP:20260421T005616Z
END:VEVENT
END:VCALENDAR