BEGIN:VCALENDAR
VERSION:2.0
PRODID:Emil Gilels
BEGIN:VEVENT
UID:69e54ad6d3dbe
DTSTART:19661129T060000Z
SEQUENCE:0
TRANSP:OPAQUE
DTEND:19661129T060000Z
SUMMARY:Emil Gilels
CLASS:PUBLIC
DTSTAMP:20260419T213622Z
END:VEVENT
END:VCALENDAR