BEGIN:VCALENDAR
VERSION:2.0
PRODID:Chad Mitchell Trio
BEGIN:VEVENT
UID:69ec336263dc6
DTSTART:19650130T060000Z
SEQUENCE:0
TRANSP:OPAQUE
DTEND:19650130T060000Z
SUMMARY:Chad Mitchell Trio
CLASS:PUBLIC
DTSTAMP:20260425T032210Z
END:VEVENT
END:VCALENDAR