BEGIN:VCALENDAR
VERSION:2.0
PRODID:Peter Nero
BEGIN:VEVENT
UID:69e5afdd996cd
DTSTART:19650209T060000Z
SEQUENCE:0
TRANSP:OPAQUE
DTEND:19650209T060000Z
SUMMARY:Peter Nero
CLASS:PUBLIC
DTSTAMP:20260420T044725Z
END:VEVENT
END:VCALENDAR