BEGIN:VCALENDAR
VERSION:2.0
PRODID:Parade of Quartets
BEGIN:VEVENT
UID:69e852c070363
DTSTART:19650220T060000Z
SEQUENCE:0
TRANSP:OPAQUE
DTEND:19650220T060000Z
SUMMARY:Parade of Quartets
CLASS:PUBLIC
DTSTAMP:20260422T044656Z
END:VEVENT
END:VCALENDAR