BEGIN:VCALENDAR
VERSION:2.0
PRODID:Nutcracker Fantasy
BEGIN:VEVENT
UID:69e5afddb418a
DTSTART:19651219T060000Z
SEQUENCE:0
TRANSP:OPAQUE
DTEND:19651219T060000Z
SUMMARY:Nutcracker Fantasy
CLASS:PUBLIC
DTSTAMP:20260420T044725Z
END:VEVENT
END:VCALENDAR