BEGIN:VCALENDAR
VERSION:2.0
PRODID:Parade of Quartets
BEGIN:VEVENT
UID:69ea63690b6c3
DTSTART:19640215T060000Z
SEQUENCE:0
TRANSP:OPAQUE
DTEND:19640215T060000Z
SUMMARY:Parade of Quartets
CLASS:PUBLIC
DTSTAMP:20260423T182233Z
END:VEVENT
END:VCALENDAR