BEGIN:VCALENDAR
VERSION:2.0
PRODID:Jerome Hines
BEGIN:VEVENT
UID:69ed3917ea8de
DTSTART:19641205T060000Z
SEQUENCE:0
TRANSP:OPAQUE
DTEND:19641205T060000Z
SUMMARY:Jerome Hines
CLASS:PUBLIC
DTSTAMP:20260425T215847Z
END:VEVENT
END:VCALENDAR