BEGIN:VCALENDAR
VERSION:2.0
PRODID:Parade of Quartets
BEGIN:VEVENT
UID:69e598547792d
DTSTART:19630216T060000Z
SEQUENCE:0
TRANSP:OPAQUE
DTEND:19630216T060000Z
SUMMARY:Parade of Quartets
CLASS:PUBLIC
DTSTAMP:20260420T030700Z
END:VEVENT
END:VCALENDAR