BEGIN:VCALENDAR
VERSION:2.0
PRODID:Anne Moffo
BEGIN:VEVENT
UID:69e4f9591d519
DTSTART:19630306T060000Z
SEQUENCE:0
TRANSP:OPAQUE
DTEND:19630306T060000Z
SUMMARY:Anne Moffo
CLASS:PUBLIC
DTSTAMP:20260419T154841Z
END:VEVENT
END:VCALENDAR