BEGIN:VCALENDAR
VERSION:2.0
PRODID:Symphony String Quartet (Minneapolis)
BEGIN:VEVENT
UID:69e5340ff2cf4
DTSTART:19610123T060000Z
SEQUENCE:0
TRANSP:OPAQUE
DTEND:19610123T060000Z
SUMMARY:Symphony String Quartet (Minneapolis)
CLASS:PUBLIC
DTSTAMP:20260419T195911Z
END:VEVENT
END:VCALENDAR