BEGIN:VCALENDAR
VERSION:2.0
PRODID:Chris Connor
BEGIN:VEVENT
UID:69ea1f453b625
DTSTART:19600130T060000Z
SEQUENCE:0
TRANSP:OPAQUE
DTEND:19600130T060000Z
SUMMARY:Chris Connor
CLASS:PUBLIC
DTSTAMP:20260423T133149Z
END:VEVENT
END:VCALENDAR