BEGIN:VCALENDAR
VERSION:2.0
PRODID:Jaime Laredo
BEGIN:VEVENT
UID:69e89fe741231
DTSTART:19600502T050000Z
SEQUENCE:0
TRANSP:OPAQUE
DTEND:19600502T050000Z
SUMMARY:Jaime Laredo
CLASS:PUBLIC
DTSTAMP:20260422T101607Z
END:VEVENT
END:VCALENDAR