BEGIN:VCALENDAR
VERSION:2.0
PRODID:Blanche Thebom
BEGIN:VEVENT
UID:69e86f54e2512
DTSTART:19591014T050000Z
SEQUENCE:0
TRANSP:OPAQUE
DTEND:19591014T050000Z
SUMMARY:Blanche Thebom
CLASS:PUBLIC
DTSTAMP:20260422T064852Z
END:VEVENT
END:VCALENDAR