BEGIN:VCALENDAR
VERSION:2.0
PRODID:First Piano Quartet
BEGIN:VEVENT
UID:69ed6db6c230c
DTSTART:19570226T060000Z
SEQUENCE:0
TRANSP:OPAQUE
DTEND:19570226T060000Z
SUMMARY:First Piano Quartet
CLASS:PUBLIC
DTSTAMP:20260426T014318Z
END:VEVENT
END:VCALENDAR