BEGIN:VCALENDAR
VERSION:2.0
PRODID:Risë Stevens
BEGIN:VEVENT
UID:69e617971c73d
DTSTART:19570403T060000Z
SEQUENCE:0
TRANSP:OPAQUE
DTEND:19570403T060000Z
SUMMARY:Risë Stevens
CLASS:PUBLIC
DTSTAMP:20260420T120959Z
END:VEVENT
END:VCALENDAR