BEGIN:VCALENDAR
VERSION:2.0
PRODID:Robert Casadesus
BEGIN:VEVENT
UID:69e7410661252
DTSTART:19561120T060000Z
SEQUENCE:0
TRANSP:OPAQUE
DTEND:19561120T060000Z
SUMMARY:Robert Casadesus
CLASS:PUBLIC
DTSTAMP:20260421T091902Z
END:VEVENT
END:VCALENDAR