BEGIN:VCALENDAR
VERSION:2.0
PRODID:Parade of Quartets
BEGIN:VEVENT
UID:69e74ed357de8
DTSTART:19550212T060000Z
SEQUENCE:0
TRANSP:OPAQUE
DTEND:19550212T060000Z
SUMMARY:Parade of Quartets
CLASS:PUBLIC
DTSTAMP:20260421T101755Z
END:VEVENT
END:VCALENDAR