BEGIN:VCALENDAR
VERSION:2.0
PRODID:Leon Fleisher
BEGIN:VEVENT
UID:69e8b9aabadf5
DTSTART:19540118T060000Z
SEQUENCE:0
TRANSP:OPAQUE
DTEND:19540118T060000Z
SUMMARY:Leon Fleisher
CLASS:PUBLIC
DTSTAMP:20260422T120602Z
END:VEVENT
END:VCALENDAR