BEGIN:VCALENDAR
VERSION:2.0
PRODID:Metropolitan Opera
BEGIN:VEVENT
UID:69e53e1eae3d5
DTSTART:19510505T050000Z
SEQUENCE:0
TRANSP:OPAQUE
DTEND:19510505T050000Z
SUMMARY:Metropolitan Opera
CLASS:PUBLIC
DTSTAMP:20260419T204206Z
END:VEVENT
END:VCALENDAR