BEGIN:VCALENDAR
VERSION:2.0
PRODID:Alexander Uninsky
BEGIN:VEVENT
UID:69e83b2f5c478
DTSTART:19500308T060000Z
SEQUENCE:0
TRANSP:OPAQUE
DTEND:19500308T060000Z
SUMMARY:Alexander Uninsky
CLASS:PUBLIC
DTSTAMP:20260422T030623Z
END:VEVENT
END:VCALENDAR