BEGIN:VCALENDAR
VERSION:2.0
PRODID:Anne Brown
BEGIN:VEVENT
UID:69ed3f1b34f7c
DTSTART:19460122T060000Z
SEQUENCE:0
TRANSP:OPAQUE
DTEND:19460122T060000Z
SUMMARY:Anne Brown
CLASS:PUBLIC
DTSTAMP:20260425T222427Z
END:VEVENT
END:VCALENDAR