BEGIN:VCALENDAR
VERSION:2.0
PRODID:Marjorie Lawrence
BEGIN:VEVENT
UID:69e61796e4b55
DTSTART:19431130T050000Z
SEQUENCE:0
TRANSP:OPAQUE
DTEND:19431130T050000Z
SUMMARY:Marjorie Lawrence
CLASS:PUBLIC
DTSTAMP:20260420T120958Z
END:VEVENT
END:VCALENDAR