BEGIN:VCALENDAR
VERSION:2.0
PRODID:Nelson Eddy
BEGIN:VEVENT
UID:69e693e40675c
DTSTART:19420217T050000Z
SEQUENCE:0
TRANSP:OPAQUE
DTEND:19420217T050000Z
SUMMARY:Nelson Eddy
CLASS:PUBLIC
DTSTAMP:20260420T210020Z
END:VEVENT
END:VCALENDAR