BEGIN:VCALENDAR
VERSION:2.0
PRODID:Busch String Quartet
BEGIN:VEVENT
UID:69e57e37ce7d9
DTSTART:19420302T050000Z
SEQUENCE:0
TRANSP:OPAQUE
DTEND:19420302T050000Z
SUMMARY:Busch String Quartet
CLASS:PUBLIC
DTSTAMP:20260420T011535Z
END:VEVENT
END:VCALENDAR