BEGIN:VCALENDAR
VERSION:2.0
PRODID:Risë Stevens
BEGIN:VEVENT
UID:69e50452b0091
DTSTART:19421110T050000Z
SEQUENCE:0
TRANSP:OPAQUE
DTEND:19421110T050000Z
SUMMARY:Risë Stevens
CLASS:PUBLIC
DTSTAMP:20260419T163530Z
END:VEVENT
END:VCALENDAR