BEGIN:VCALENDAR
VERSION:2.0
PRODID:Paul Draper
BEGIN:VEVENT
UID:69ea94951323e
DTSTART:19421206T050000Z
SEQUENCE:0
TRANSP:OPAQUE
DTEND:19421206T050000Z
SUMMARY:Paul Draper
CLASS:PUBLIC
DTSTAMP:20260423T215221Z
END:VEVENT
END:VCALENDAR