BEGIN:VCALENDAR
VERSION:2.0
PRODID:John Brownlee
BEGIN:VEVENT
UID:69e6939c8f14f
DTSTART:19380104T060000Z
SEQUENCE:0
TRANSP:OPAQUE
DTEND:19380104T060000Z
SUMMARY:John Brownlee
CLASS:PUBLIC
DTSTAMP:20260420T205908Z
END:VEVENT
END:VCALENDAR