BEGIN:VCALENDAR
VERSION:2.0
PRODID:Tito Schipa
BEGIN:VEVENT
UID:69e53410b2657
DTSTART:19331212T060000Z
SEQUENCE:0
TRANSP:OPAQUE
DTEND:19331212T060000Z
SUMMARY:Tito Schipa
CLASS:PUBLIC
DTSTAMP:20260419T195912Z
END:VEVENT
END:VCALENDAR