BEGIN:VCALENDAR
VERSION:2.0
PRODID:Dancer as Driver
BEGIN:VEVENT
UID:69e50befda96f
DTSTART:20120913T210000Z
SEQUENCE:0
TRANSP:OPAQUE
DTEND:20120913T210000Z
SUMMARY:Dancer as Driver
CLASS:PUBLIC
DTSTAMP:20260419T170759Z
END:VEVENT
END:VCALENDAR