BEGIN:VCALENDAR
VERSION:2.0
PRODID:SHORE: PERFORMANCE
BEGIN:VEVENT
UID:69e50474152d7
DTSTART:20140621T010000Z
SEQUENCE:0
TRANSP:OPAQUE
DTEND:20140621T010000Z
SUMMARY:SHORE: PERFORMANCE
CLASS:PUBLIC
DTSTAMP:20260419T163604Z
END:VEVENT
BEGIN:VEVENT
UID:69e5047415303
DTSTART:20140622T010000Z
SEQUENCE:0
TRANSP:OPAQUE
DTEND:20140622T010000Z
SUMMARY:SHORE: PERFORMANCE
CLASS:PUBLIC
DTSTAMP:20260419T163604Z
END:VEVENT
END:VCALENDAR