BEGIN:VCALENDAR
VERSION:2.0
PRODID:Inside Out After Dark
BEGIN:VEVENT
UID:69e5982886785
DTSTART:20140405T033000Z
SEQUENCE:0
TRANSP:OPAQUE
DTEND:20140405T033000Z
SUMMARY:Inside Out After Dark
CLASS:PUBLIC
DTSTAMP:20260420T030616Z
END:VEVENT
END:VCALENDAR