BEGIN:VCALENDAR
VERSION:2.0
PRODID:App
BEGIN:VEVENT
UID:69e5f03590114
DTSTART:20140420T020000Z
SEQUENCE:0
TRANSP:OPAQUE
DTEND:20140420T020000Z
SUMMARY:App
CLASS:PUBLIC
DTSTAMP:20260420T092157Z
END:VEVENT
END:VCALENDAR