BEGIN:VCALENDAR
VERSION:2.0
PRODID:The Forgotten Kingdom
BEGIN:VEVENT
UID:69e4cae74a689
DTSTART:20140407T180000Z
SEQUENCE:0
TRANSP:OPAQUE
DTEND:20140407T180000Z
SUMMARY:The Forgotten Kingdom
CLASS:PUBLIC
DTSTAMP:20260419T123031Z
END:VEVENT
END:VCALENDAR