BEGIN:VCALENDAR
VERSION:2.0
PRODID:The Nile Project
BEGIN:VEVENT
UID:69e62bd4d3e6e
DTSTART:20150225T010000Z
SEQUENCE:0
TRANSP:OPAQUE
DTEND:20150225T010000Z
SUMMARY:The Nile Project
CLASS:PUBLIC
DTSTAMP:20260420T133620Z
END:VEVENT
END:VCALENDAR