BEGIN:VCALENDAR
VERSION:2.0
PRODID:Fruit Orchestra!
BEGIN:VEVENT
UID:69e5341027aec
DTSTART:20140615T020000Z
SEQUENCE:0
TRANSP:OPAQUE
DTEND:20140615T020000Z
SUMMARY:Fruit Orchestra!
CLASS:PUBLIC
DTSTAMP:20260419T195912Z
END:VEVENT
END:VCALENDAR