BEGIN:VCALENDAR
VERSION:2.0
PRODID:David Gray
BEGIN:VEVENT
UID:69e723c798fb5
DTSTART:20141015T003000Z
SEQUENCE:0
TRANSP:OPAQUE
DTEND:20141015T003000Z
SUMMARY:David Gray
CLASS:PUBLIC
DTSTAMP:20260421T071415Z
END:VEVENT
END:VCALENDAR