BEGIN:VCALENDAR
VERSION:2.0
PRODID:Center Coast
BEGIN:VEVENT
UID:69e59850c08f7
DTSTART:20140903T170000Z
SEQUENCE:0
TRANSP:OPAQUE
DTEND:20140903T170000Z
SUMMARY:Center Coast
CLASS:PUBLIC
DTSTAMP:20260420T030656Z
END:VEVENT
END:VCALENDAR