BEGIN:VCALENDAR
VERSION:2.0
PRODID:Color Tab
BEGIN:VEVENT
UID:69e97f8d9a796
DTSTART:20141001T170000Z
SEQUENCE:0
TRANSP:OPAQUE
DTEND:20141001T170000Z
SUMMARY:Color Tab
CLASS:PUBLIC
DTSTAMP:20260423T021021Z
END:VEVENT
END:VCALENDAR