BEGIN:VCALENDAR
VERSION:2.0
PRODID:Pumpkins on the Plaza
BEGIN:VEVENT
UID:69e735c0e00f5
DTSTART:20141030T160000Z
SEQUENCE:0
TRANSP:OPAQUE
DTEND:20141030T160000Z
SUMMARY:Pumpkins on the Plaza
CLASS:PUBLIC
DTSTAMP:20260421T083056Z
END:VEVENT
END:VCALENDAR