BEGIN:VCALENDAR
VERSION:2.0
PRODID:Eifman Ballet Performance Preview
BEGIN:VEVENT
UID:69ed89e97aca0
DTSTART:20150428T231500Z
SEQUENCE:0
TRANSP:OPAQUE
DTEND:20150428T231500Z
SUMMARY:Eifman Ballet Performance Preview
CLASS:PUBLIC
DTSTAMP:20260426T034337Z
END:VEVENT
BEGIN:VEVENT
UID:69ed89e97acd2
DTSTART:20150429T231500Z
SEQUENCE:0
TRANSP:OPAQUE
DTEND:20150429T231500Z
SUMMARY:Eifman Ballet Performance Preview
CLASS:PUBLIC
DTSTAMP:20260426T034337Z
END:VEVENT
END:VCALENDAR