BEGIN:VCALENDAR
VERSION:2.0
PRODID:Wording Out!
BEGIN:VEVENT
UID:69e5341107ec3
DTSTART:20150421T233000Z
SEQUENCE:0
TRANSP:OPAQUE
DTEND:20150421T233000Z
SUMMARY:Wording Out!
CLASS:PUBLIC
DTSTAMP:20260419T195913Z
END:VEVENT
END:VCALENDAR