BEGIN:VCALENDAR
VERSION:2.0
PRODID:Idina Menzel
BEGIN:VEVENT
UID:69e4f95a1c742
DTSTART:20150814T010000Z
SEQUENCE:0
TRANSP:OPAQUE
DTEND:20150814T010000Z
SUMMARY:Idina Menzel
CLASS:PUBLIC
DTSTAMP:20260419T154842Z
END:VEVENT
END:VCALENDAR