BEGIN:VCALENDAR
VERSION:2.0
PRODID:Shawn Mendes
BEGIN:VEVENT
UID:69e9cbc33bc2c
DTSTART:20150415T000000Z
SEQUENCE:0
TRANSP:OPAQUE
DTEND:20150415T000000Z
SUMMARY:Shawn Mendes
CLASS:PUBLIC
DTSTAMP:20260423T073531Z
END:VEVENT
END:VCALENDAR