BEGIN:VCALENDAR
VERSION:2.0
PRODID:Sufjan Stevens
BEGIN:VEVENT
UID:69e61797956af
DTSTART:20150423T003000Z
SEQUENCE:0
TRANSP:OPAQUE
DTEND:20150423T003000Z
SUMMARY:Sufjan Stevens
CLASS:PUBLIC
DTSTAMP:20260420T120959Z
END:VEVENT
END:VCALENDAR