BEGIN:VCALENDAR
VERSION:2.0
PRODID:Ingrid Michaelson
BEGIN:VEVENT
UID:69e723c79118f
DTSTART:20150624T003000Z
SEQUENCE:0
TRANSP:OPAQUE
DTEND:20150624T003000Z
SUMMARY:Ingrid Michaelson
CLASS:PUBLIC
DTSTAMP:20260421T071415Z
END:VEVENT
END:VCALENDAR