BEGIN:VCALENDAR
VERSION:2.0
PRODID:The Thing About Words
BEGIN:VEVENT
UID:69e91c26651fb
DTSTART:20150614T020000Z
SEQUENCE:0
TRANSP:OPAQUE
DTEND:20150614T020000Z
SUMMARY:The Thing About Words
CLASS:PUBLIC
DTSTAMP:20260422T190614Z
END:VEVENT
END:VCALENDAR