BEGIN:VCALENDAR
VERSION:2.0
PRODID:People Pixels
BEGIN:VEVENT
UID:69e53411b65c1
DTSTART:20150614T020000Z
SEQUENCE:0
TRANSP:OPAQUE
DTEND:20150614T020000Z
SUMMARY:People Pixels
CLASS:PUBLIC
DTSTAMP:20260419T195913Z
END:VEVENT
END:VCALENDAR